Package: DSS Version: 2.54.0 Command: /Library/Frameworks/R.framework/Resources/bin/R CMD build --keep-empty-dirs --no-resave-data DSS StartedAt: 2025-03-31 18:27:07 -0400 (Mon, 31 Mar 2025) EndedAt: 2025-03-31 18:29:14 -0400 (Mon, 31 Mar 2025) EllapsedTime: 127.5 seconds RetCode: 0 Status: OK PackageFile: DSS_2.54.0.tar.gz PackageFileSize: 2.029 MiB