Package: DRIMSeq Version: 1.34.0 Command: chmod a+r DRIMSeq -R && F:\biocbuild\bbs-3.20-bioc\R\bin\R.exe CMD build --keep-empty-dirs --no-resave-data DRIMSeq StartedAt: 2025-01-30 18:32:18 -0500 (Thu, 30 Jan 2025) EndedAt: 2025-01-30 18:35:53 -0500 (Thu, 30 Jan 2025) EllapsedTime: 214.5 seconds RetCode: 0 Status: OK PackageFile: DRIMSeq_1.34.0.tar.gz PackageFileSize: 483.3 KiB