Package: DRIMSeq Version: 1.34.0 Command: /Library/Frameworks/R.framework/Resources/bin/R CMD INSTALL DRIMSeq StartedAt: 2025-03-31 15:24:47 -0400 (Mon, 31 Mar 2025) EndedAt: 2025-03-31 15:25:15 -0400 (Mon, 31 Mar 2025) EllapsedTime: 28.2 seconds RetCode: 0 Status: OK