Package: DRIMSeq Version: 1.34.0 Command: /Library/Frameworks/R.framework/Resources/bin/R CMD check --install=check:DRIMSeq.install-out.txt --library=/Library/Frameworks/R.framework/Resources/library --no-vignettes --timings DRIMSeq_1.34.0.tar.gz StartedAt: 2024-11-09 01:17:01 -0500 (Sat, 09 Nov 2024) EndedAt: 2024-11-09 01:21:52 -0500 (Sat, 09 Nov 2024) EllapsedTime: 290.7 seconds RetCode: 0 Status: WARNINGS CheckDir: DRIMSeq.Rcheck Warnings: 1