Package: DRIMSeq Version: 1.34.0 Command: /Library/Frameworks/R.framework/Resources/bin/R CMD check --install=check:DRIMSeq.install-out.txt --library=/Library/Frameworks/R.framework/Resources/library --no-vignettes --timings DRIMSeq_1.34.0.tar.gz StartedAt: 2025-01-28 17:57:44 -0500 (Tue, 28 Jan 2025) EndedAt: 2025-01-28 18:01:24 -0500 (Tue, 28 Jan 2025) EllapsedTime: 219.3 seconds RetCode: 0 Status: WARNINGS CheckDir: DRIMSeq.Rcheck Warnings: 1