Package: DOSE Version: 4.0.1 Command: /Library/Frameworks/R.framework/Resources/bin/R CMD build --keep-empty-dirs --no-resave-data DOSE StartedAt: 2025-03-31 18:25:46 -0400 (Mon, 31 Mar 2025) EndedAt: 2025-03-31 18:27:05 -0400 (Mon, 31 Mar 2025) EllapsedTime: 79.3 seconds RetCode: 0 Status: OK PackageFile: DOSE_4.0.1.tar.gz PackageFileSize: 5.479 MiB