Package: DOSE Version: 4.0.1 Command: /Library/Frameworks/R.framework/Resources/bin/R CMD build --keep-empty-dirs --no-resave-data DOSE StartedAt: 2025-03-31 22:45:08 -0400 (Mon, 31 Mar 2025) EndedAt: 2025-03-31 22:45:51 -0400 (Mon, 31 Mar 2025) EllapsedTime: 42.5 seconds RetCode: 0 Status: OK PackageFile: DOSE_4.0.1.tar.gz PackageFileSize: 5.479 MiB