Package: DNAshapeR Version: 1.34.0 Command: F:\biocbuild\bbs-3.20-bioc\R\bin\R.exe CMD INSTALL DNAshapeR StartedAt: 2025-03-31 15:40:47 -0400 (Mon, 31 Mar 2025) EndedAt: 2025-03-31 15:41:40 -0400 (Mon, 31 Mar 2025) EllapsedTime: 52.3 seconds RetCode: 0 Status: OK