Package: DNAshapeR Version: 1.34.0 Command: /home/biocbuild/bbs-3.20-bioc/R/bin/R CMD check --install=check:DNAshapeR.install-out.txt --library=/home/biocbuild/bbs-3.20-bioc/R/site-library --timings DNAshapeR_1.34.0.tar.gz StartedAt: 2025-01-27 22:41:21 -0500 (Mon, 27 Jan 2025) EndedAt: 2025-01-27 22:43:38 -0500 (Mon, 27 Jan 2025) EllapsedTime: 137.1 seconds RetCode: 0 Status: OK CheckDir: DNAshapeR.Rcheck Warnings: 0