Package: DNAshapeR Version: 1.34.0 Command: /Library/Frameworks/R.framework/Resources/bin/R CMD build --keep-empty-dirs --no-resave-data DNAshapeR StartedAt: 2025-03-31 18:24:49 -0400 (Mon, 31 Mar 2025) EndedAt: 2025-03-31 18:27:17 -0400 (Mon, 31 Mar 2025) EllapsedTime: 148.7 seconds RetCode: 0 Status: OK PackageFile: DNAshapeR_1.34.0.tar.gz PackageFileSize: 1.138 MiB