Package: DNAfusion Version: 1.8.0 Command: F:\biocbuild\bbs-3.20-bioc\R\bin\R.exe CMD check --no-multiarch --install=check:DNAfusion.install-out.txt --library=F:\biocbuild\bbs-3.20-bioc\R\library --no-vignettes --timings DNAfusion_1.8.0.tar.gz StartedAt: 2025-04-01 01:03:40 -0400 (Tue, 01 Apr 2025) EndedAt: 2025-04-01 01:13:33 -0400 (Tue, 01 Apr 2025) EllapsedTime: 592.8 seconds RetCode: 0 Status: OK CheckDir: DNAfusion.Rcheck Warnings: 0