Package: DNAfusion Version: 1.8.0 Command: /Library/Frameworks/R.framework/Resources/bin/R CMD build --keep-empty-dirs --no-resave-data DNAfusion StartedAt: 2025-03-31 22:42:22 -0400 (Mon, 31 Mar 2025) EndedAt: 2025-03-31 22:45:57 -0400 (Mon, 31 Mar 2025) EllapsedTime: 215.1 seconds RetCode: 0 Status: OK PackageFile: DNAfusion_1.8.0.tar.gz PackageFileSize: 6.298 MiB