Package: DNAfusion Version: 1.8.0 Command: rm -rf DNAfusion.buildbin-libdir && mkdir DNAfusion.buildbin-libdir && /Users/biocbuild/BBS/utils/build-universal.sh DNAfusion_1.8.0.tar.gz /Library/Frameworks/R.framework/Resources/bin/R DNAfusion.buildbin-libdir StartedAt: 2025-01-29 14:26:55 -0500 (Wed, 29 Jan 2025) EndedAt: 2025-01-29 14:27:39 -0500 (Wed, 29 Jan 2025) EllapsedTime: 44.0 seconds RetCode: 0 Status: OK PackageFile: DNAfusion_1.8.0.tgz PackageFileSize: 6.316 MiB