Package: DNAcopy Version: 1.80.0 Command: /home/biocbuild/bbs-3.20-bioc/R/bin/R CMD check --install=check:DNAcopy.install-out.txt --library=/home/biocbuild/bbs-3.20-bioc/R/site-library --timings DNAcopy_1.80.0.tar.gz StartedAt: 2025-03-31 21:44:02 -0400 (Mon, 31 Mar 2025) EndedAt: 2025-03-31 21:44:27 -0400 (Mon, 31 Mar 2025) EllapsedTime: 25.0 seconds RetCode: 0 Status: OK CheckDir: DNAcopy.Rcheck Warnings: 0