Package: DNAcopy Version: 1.80.0 Command: /Library/Frameworks/R.framework/Resources/bin/R CMD INSTALL DNAcopy StartedAt: 2025-03-31 15:03:31 -0400 (Mon, 31 Mar 2025) EndedAt: 2025-03-31 15:03:47 -0400 (Mon, 31 Mar 2025) EllapsedTime: 16.8 seconds RetCode: 0 Status: OK