Package: DNABarcodes Version: 1.36.0 Command: /home/biocbuild/R/R/bin/R CMD check --install=check:DNABarcodes.install-out.txt --library=/home/biocbuild/R/R/site-library --no-vignettes --timings DNABarcodes_1.36.0.tar.gz StartedAt: 2025-01-31 05:47:56 -0000 (Fri, 31 Jan 2025) EndedAt: 2025-01-31 05:48:46 -0000 (Fri, 31 Jan 2025) EllapsedTime: 50.1 seconds RetCode: 0 Status: OK CheckDir: DNABarcodes.Rcheck Warnings: 0