Package: DNABarcodes Version: 1.36.0 Command: /Library/Frameworks/R.framework/Resources/bin/R CMD INSTALL DNABarcodes StartedAt: 2025-03-31 16:05:44 -0400 (Mon, 31 Mar 2025) EndedAt: 2025-03-31 16:07:59 -0400 (Mon, 31 Mar 2025) EllapsedTime: 134.5 seconds RetCode: 0 Status: OK