Package: DNABarcodes Version: 1.36.0 Command: rm -rf DNABarcodes.buildbin-libdir && mkdir DNABarcodes.buildbin-libdir && /Users/biocbuild/BBS/utils/build-universal.sh DNABarcodes_1.36.0.tar.gz /Library/Frameworks/R.framework/Resources/bin/R DNABarcodes.buildbin-libdir StartedAt: 2025-04-01 11:47:16 -0400 (Tue, 01 Apr 2025) EndedAt: 2025-04-01 11:49:39 -0400 (Tue, 01 Apr 2025) EllapsedTime: 143.0 seconds RetCode: 0 Status: OK PackageFile: DNABarcodes_1.36.0.tgz PackageFileSize: 486.3 KiB