Package: DNABarcodeCompatibility Version: 1.22.0 Command: /home/biocbuild/R/R/bin/R CMD build --keep-empty-dirs --no-resave-data DNABarcodeCompatibility StartedAt: 2025-02-03 23:15:46 -0000 (Mon, 03 Feb 2025) EndedAt: 2025-02-03 23:17:28 -0000 (Mon, 03 Feb 2025) EllapsedTime: 102.0 seconds RetCode: 0 Status: OK PackageFile: DNABarcodeCompatibility_1.22.0.tar.gz PackageFileSize: 285 KiB