Package: DMRcate Version: 3.2.1 Command: /home/biocbuild/R/R/bin/R CMD INSTALL DMRcate StartedAt: 2025-02-03 21:29:12 -0000 (Mon, 03 Feb 2025) EndedAt: 2025-02-03 21:30:21 -0000 (Mon, 03 Feb 2025) EllapsedTime: 69.0 seconds RetCode: 0 Status: OK