Package: DMRcate Version: 3.2.1 Command: /home/biocbuild/R/R/bin/R CMD build --keep-empty-dirs --no-resave-data DMRcate StartedAt: 2025-02-03 23:14:51 -0000 (Mon, 03 Feb 2025) EndedAt: 2025-02-03 23:32:57 -0000 (Mon, 03 Feb 2025) EllapsedTime: 1086.4 seconds RetCode: 0 Status: OK PackageFile: DMRcate_3.2.1.tar.gz PackageFileSize: 799.8 KiB