Package: DMRcate Version: 3.2.1 Command: /home/biocbuild/bbs-3.20-bioc/R/bin/R CMD build --keep-empty-dirs --no-resave-data --md5 DMRcate StartedAt: 2025-01-27 17:59:16 -0500 (Mon, 27 Jan 2025) EndedAt: 2025-01-27 18:13:26 -0500 (Mon, 27 Jan 2025) EllapsedTime: 849.4 seconds RetCode: 0 Status: OK PackageFile: DMRcate_3.2.1.tar.gz PackageFileSize: 818.9 KiB