Package: DMRcate Version: 3.2.1 Command: /Library/Frameworks/R.framework/Resources/bin/R CMD INSTALL DMRcate StartedAt: 2025-01-27 16:53:51 -0500 (Mon, 27 Jan 2025) EndedAt: 2025-01-27 16:54:57 -0500 (Mon, 27 Jan 2025) EllapsedTime: 65.7 seconds RetCode: 0 Status: OK