Package: DMRcate Version: 3.2.1 Command: rm -rf DMRcate.buildbin-libdir && mkdir DMRcate.buildbin-libdir && /Users/biocbuild/BBS/utils/build-universal.sh DMRcate_3.2.1.tar.gz /Library/Frameworks/R.framework/Resources/bin/R DMRcate.buildbin-libdir StartedAt: 2025-02-04 12:50:57 -0500 (Tue, 04 Feb 2025) EndedAt: 2025-02-04 12:53:14 -0500 (Tue, 04 Feb 2025) EllapsedTime: 136.3 seconds RetCode: 0 Status: OK PackageFile: DMRcate_3.2.1.tgz PackageFileSize: 1.151 MiB