Package: DMRcate Version: 3.2.1 Command: /Library/Frameworks/R.framework/Resources/bin/R CMD INSTALL DMRcate StartedAt: 2025-02-03 18:13:25 -0500 (Mon, 03 Feb 2025) EndedAt: 2025-02-03 18:14:38 -0500 (Mon, 03 Feb 2025) EllapsedTime: 73.1 seconds RetCode: 0 Status: OK