Package: DMRcaller Version: 1.38.0 Command: /home/biocbuild/bbs-3.20-bioc/R/bin/R CMD INSTALL DMRcaller StartedAt: 2025-01-27 16:02:15 -0500 (Mon, 27 Jan 2025) EndedAt: 2025-01-27 16:02:28 -0500 (Mon, 27 Jan 2025) EllapsedTime: 12.8 seconds RetCode: 0 Status: OK