Package: DMRcaller Version: 1.38.0 Command: /home/biocbuild/bbs-3.20-bioc/R/bin/R CMD build --keep-empty-dirs --no-resave-data --md5 DMRcaller StartedAt: 2025-03-31 17:03:53 -0400 (Mon, 31 Mar 2025) EndedAt: 2025-03-31 17:05:04 -0400 (Mon, 31 Mar 2025) EllapsedTime: 71.1 seconds RetCode: 0 Status: OK PackageFile: DMRcaller_1.38.0.tar.gz PackageFileSize: 1.635 MiB