Package: DMRScan Version: 1.28.0 Command: /Library/Frameworks/R.framework/Resources/bin/R CMD INSTALL DMRScan StartedAt: 2025-02-10 15:13:37 -0500 (Mon, 10 Feb 2025) EndedAt: 2025-02-10 15:14:12 -0500 (Mon, 10 Feb 2025) EllapsedTime: 35.2 seconds RetCode: 0 Status: OK