Package: DMRScan Version: 1.28.0 Command: /Library/Frameworks/R.framework/Resources/bin/R CMD build --keep-empty-dirs --no-resave-data DMRScan StartedAt: 2025-02-10 18:31:52 -0500 (Mon, 10 Feb 2025) EndedAt: 2025-02-10 18:36:23 -0500 (Mon, 10 Feb 2025) EllapsedTime: 271.6 seconds RetCode: 0 Status: OK PackageFile: DMRScan_1.28.0.tar.gz PackageFileSize: 3.347 MiB