Package: DMCHMM Version: 1.28.0 Command: /Library/Frameworks/R.framework/Resources/bin/R CMD INSTALL DMCHMM StartedAt: 2025-01-27 16:21:02 -0500 (Mon, 27 Jan 2025) EndedAt: 2025-01-27 16:22:17 -0500 (Mon, 27 Jan 2025) EllapsedTime: 74.6 seconds RetCode: 0 Status: OK