Package: DIAlignR Version: 2.14.0 Command: F:\biocbuild\bbs-3.20-bioc\R\bin\R.exe CMD check --no-multiarch --install=check:DIAlignR.install-out.txt --library=F:\biocbuild\bbs-3.20-bioc\R\library --no-vignettes --timings DIAlignR_2.14.0.tar.gz StartedAt: 2025-01-28 00:56:22 -0500 (Tue, 28 Jan 2025) EndedAt: 2025-01-28 01:00:22 -0500 (Tue, 28 Jan 2025) EllapsedTime: 240.2 seconds RetCode: 1 Status: ERROR CheckDir: DIAlignR.Rcheck Warnings: NA