Package: DIAlignR Version: 2.14.0 Command: /Library/Frameworks/R.framework/Resources/bin/R CMD INSTALL DIAlignR StartedAt: 2025-01-27 15:47:55 -0500 (Mon, 27 Jan 2025) EndedAt: 2025-01-27 15:50:05 -0500 (Mon, 27 Jan 2025) EllapsedTime: 129.9 seconds RetCode: 0 Status: OK