Package: DIAlignR Version: 2.14.0 Command: /Library/Frameworks/R.framework/Resources/bin/R CMD check --install=check:DIAlignR.install-out.txt --library=/Library/Frameworks/R.framework/Resources/library --no-vignettes --timings DIAlignR_2.14.0.tar.gz StartedAt: 2025-04-01 17:21:10 -0400 (Tue, 01 Apr 2025) EndedAt: 2025-04-01 17:24:12 -0400 (Tue, 01 Apr 2025) EllapsedTime: 182.2 seconds RetCode: 1 Status: ERROR CheckDir: DIAlignR.Rcheck Warnings: NA