Package: DFplyr Version: 1.0.0 Command: /Library/Frameworks/R.framework/Resources/bin/R CMD INSTALL DFplyr StartedAt: 2025-03-31 15:13:51 -0400 (Mon, 31 Mar 2025) EndedAt: 2025-03-31 15:14:00 -0400 (Mon, 31 Mar 2025) EllapsedTime: 8.5 seconds RetCode: 0 Status: OK