Package: DFP Version: 1.64.0 Command: F:\biocbuild\bbs-3.20-bioc\R\bin\R.exe CMD INSTALL DFP StartedAt: 2025-03-31 15:24:53 -0400 (Mon, 31 Mar 2025) EndedAt: 2025-03-31 15:25:10 -0400 (Mon, 31 Mar 2025) EllapsedTime: 16.6 seconds RetCode: 0 Status: OK