Package: DFP Version: 1.64.0 Command: rm -rf DFP.buildbin-libdir && mkdir DFP.buildbin-libdir && F:\biocbuild\bbs-3.20-bioc\R\bin\R.exe CMD INSTALL --build --library=DFP.buildbin-libdir DFP_1.64.0.tar.gz StartedAt: 2025-04-01 08:04:55 -0400 (Tue, 01 Apr 2025) EndedAt: 2025-04-01 08:05:07 -0400 (Tue, 01 Apr 2025) EllapsedTime: 12.7 seconds RetCode: 0 Status: OK PackageFile: DFP_1.64.0.zip PackageFileSize: 567 KiB