Package: DFP Version: 1.64.0 Command: /Library/Frameworks/R.framework/Resources/bin/R CMD INSTALL DFP StartedAt: 2025-03-31 15:04:52 -0400 (Mon, 31 Mar 2025) EndedAt: 2025-03-31 15:05:02 -0400 (Mon, 31 Mar 2025) EllapsedTime: 9.8 seconds RetCode: 0 Status: OK