Package: DFP Version: 1.64.0 Command: rm -rf DFP.buildbin-libdir && mkdir DFP.buildbin-libdir && /Users/biocbuild/BBS/utils/build-universal.sh DFP_1.64.0.tar.gz /Library/Frameworks/R.framework/Resources/bin/R DFP.buildbin-libdir StartedAt: 2025-01-28 12:59:33 -0500 (Tue, 28 Jan 2025) EndedAt: 2025-01-28 12:59:44 -0500 (Tue, 28 Jan 2025) EllapsedTime: 10.8 seconds RetCode: 0 Status: OK PackageFile: DFP_1.64.0.tgz PackageFileSize: 698.3 KiB