Package: DExMA Version: 1.14.0 Command: chmod a+r DExMA -R && F:\biocbuild\bbs-3.20-bioc\R\bin\R.exe CMD build --keep-empty-dirs --no-resave-data DExMA StartedAt: 2025-01-27 18:28:23 -0500 (Mon, 27 Jan 2025) EndedAt: 2025-01-27 18:29:34 -0500 (Mon, 27 Jan 2025) EllapsedTime: 71.5 seconds RetCode: 0 Status: OK PackageFile: DExMA_1.14.0.tar.gz PackageFileSize: 319.5 KiB