Package: DExMA Version: 1.14.0 Command: /home/biocbuild/bbs-3.20-bioc/R/bin/R CMD check --install=check:DExMA.install-out.txt --library=/home/biocbuild/bbs-3.20-bioc/R/site-library --timings DExMA_1.14.0.tar.gz StartedAt: 2025-01-27 22:31:43 -0500 (Mon, 27 Jan 2025) EndedAt: 2025-01-27 22:35:55 -0500 (Mon, 27 Jan 2025) EllapsedTime: 252.2 seconds RetCode: 0 Status: OK CheckDir: DExMA.Rcheck Warnings: 0