Package: DExMA Version: 1.14.0 Command: /home/biocbuild/bbs-3.20-bioc/R/bin/R CMD build --keep-empty-dirs --no-resave-data --md5 DExMA StartedAt: 2025-03-31 17:01:03 -0400 (Mon, 31 Mar 2025) EndedAt: 2025-03-31 17:01:57 -0400 (Mon, 31 Mar 2025) EllapsedTime: 54.0 seconds RetCode: 0 Status: OK PackageFile: DExMA_1.14.0.tar.gz PackageFileSize: 315.4 KiB