Package: DExMA Version: 1.14.0 Command: /Library/Frameworks/R.framework/Resources/bin/R CMD INSTALL DExMA StartedAt: 2025-01-27 16:26:35 -0500 (Mon, 27 Jan 2025) EndedAt: 2025-01-27 16:27:46 -0500 (Mon, 27 Jan 2025) EllapsedTime: 71.1 seconds RetCode: 0 Status: OK