Package: DExMA Version: 1.14.0 Command: /Library/Frameworks/R.framework/Resources/bin/R CMD build --keep-empty-dirs --no-resave-data DExMA StartedAt: 2025-02-03 18:29:38 -0500 (Mon, 03 Feb 2025) EndedAt: 2025-02-03 18:31:46 -0500 (Mon, 03 Feb 2025) EllapsedTime: 127.7 seconds RetCode: 0 Status: OK PackageFile: DExMA_1.14.0.tar.gz PackageFileSize: 315.3 KiB