Package: DEsubs Version: 1.32.0 Command: /home/biocbuild/R/R/bin/R CMD INSTALL DEsubs StartedAt: 2025-02-03 21:02:41 -0000 (Mon, 03 Feb 2025) EndedAt: 2025-02-03 21:02:42 -0000 (Mon, 03 Feb 2025) EllapsedTime: 1.0 seconds RetCode: 1 Status: ERROR