Package: DEsubs Version: 1.32.0 Command: chmod a+r DEsubs -R && F:\biocbuild\bbs-3.20-bioc\R\bin\R.exe CMD build --keep-empty-dirs --no-resave-data DEsubs StartedAt: 2025-03-31 18:28:08 -0400 (Mon, 31 Mar 2025) EndedAt: 2025-03-31 18:29:43 -0400 (Mon, 31 Mar 2025) EllapsedTime: 94.7 seconds RetCode: 0 Status: OK PackageFile: DEsubs_1.32.0.tar.gz PackageFileSize: 3.974 MiB