Package: DEsubs Version: 1.32.0 Command: /home/biocbuild/bbs-3.20-bioc/R/bin/R CMD INSTALL DEsubs StartedAt: 2025-01-30 15:39:57 -0500 (Thu, 30 Jan 2025) EndedAt: 2025-01-30 15:40:33 -0500 (Thu, 30 Jan 2025) EllapsedTime: 35.6 seconds RetCode: 0 Status: OK