Package: DEsingle Version: 1.26.0 Command: /Library/Frameworks/R.framework/Resources/bin/R CMD build --keep-empty-dirs --no-resave-data DEsingle StartedAt: 2025-03-31 18:15:06 -0400 (Mon, 31 Mar 2025) EndedAt: 2025-03-31 18:15:37 -0400 (Mon, 31 Mar 2025) EllapsedTime: 30.7 seconds RetCode: 0 Status: OK PackageFile: DEsingle_1.26.0.tar.gz PackageFileSize: 379.9 KiB