Package: DEqMS Version: 1.24.0 Command: /home/biocbuild/R/R/bin/R CMD check --install=check:DEqMS.install-out.txt --library=/home/biocbuild/R/R/site-library --no-vignettes --timings DEqMS_1.24.0.tar.gz StartedAt: 2025-01-31 05:37:17 -0000 (Fri, 31 Jan 2025) EndedAt: 2025-01-31 05:40:33 -0000 (Fri, 31 Jan 2025) EllapsedTime: 196.2 seconds RetCode: 0 Status: OK CheckDir: DEqMS.Rcheck Warnings: 0