Package: DEqMS Version: 1.24.0 Command: /home/biocbuild/R/R/bin/R CMD build --keep-empty-dirs --no-resave-data DEqMS StartedAt: 2025-01-30 23:08:47 -0000 (Thu, 30 Jan 2025) EndedAt: 2025-01-30 23:10:32 -0000 (Thu, 30 Jan 2025) EllapsedTime: 105.0 seconds RetCode: 0 Status: OK PackageFile: DEqMS_1.24.0.tar.gz PackageFileSize: 1.195 MiB