Package: DEqMS Version: 1.24.0 Command: rm -rf DEqMS.buildbin-libdir && mkdir DEqMS.buildbin-libdir && F:\biocbuild\bbs-3.20-bioc\R\bin\R.exe CMD INSTALL --build --library=DEqMS.buildbin-libdir DEqMS_1.24.0.tar.gz StartedAt: 2025-01-28 08:01:28 -0500 (Tue, 28 Jan 2025) EndedAt: 2025-01-28 08:01:37 -0500 (Tue, 28 Jan 2025) EllapsedTime: 9.8 seconds RetCode: 0 Status: OK PackageFile: DEqMS_1.24.0.zip PackageFileSize: 651.1 KiB